BEGIN:VCALENDAR
VERSION:2.0
PRODID:-//Alfalfa Seed Commission - ECPv6.15.20//NONSGML v1.0//EN
CALSCALE:GREGORIAN
METHOD:PUBLISH
X-WR-CALNAME:Alfalfa Seed Commission
X-ORIGINAL-URL:https://alfalfaseedab.com
X-WR-CALDESC:Events for Alfalfa Seed Commission
REFRESH-INTERVAL;VALUE=DURATION:PT1H
X-Robots-Tag:noindex
X-PUBLISHED-TTL:PT1H
BEGIN:VTIMEZONE
TZID:UTC
BEGIN:STANDARD
TZOFFSETFROM:+0000
TZOFFSETTO:+0000
TZNAME:UTC
DTSTART:20240101T000000
END:STANDARD
END:VTIMEZONE
BEGIN:VEVENT
DTSTART;VALUE=DATE:20250729
DTEND;VALUE=DATE:20250730
DTSTAMP:20260423T133736
CREATED:20250623T213851Z
LAST-MODIFIED:20250623T215930Z
UID:573-1753747200-1753833599@alfalfaseedab.com
SUMMARY:ASCA Summer Tour 2025
DESCRIPTION:Save the date! Alfalfa Seed Commission of Alberta’s summer tour will be taking place July 29th\, 2025. \nMeet us at the Rainier Hall for coffee @ 8:30am. We welcome you to hop on the bus or drive yourself to each stop. We will visit various trials including the threshold re-evaluation project\, plant growth regulator plot trials\, insecticide trials (new this year)\, some on-farm research and potentially some leafcutter bee studies as well.  The tour will end back at Rainier Hall for a catered lunch and the chance to visit with other producers\, Commission staff and board\, and research scientists.
URL:https://alfalfaseedab.com/event/asca-summer-tour-2025/
ATTACH;FMTTYPE=image/png:https://alfalfaseedab.com/wp-content/uploads/2025/06/Summer-Tour-2025-Poster.png
END:VEVENT
BEGIN:VEVENT
DTSTART;VALUE=DATE:20251117
DTEND;VALUE=DATE:20251118
DTSTAMP:20260423T133736
CREATED:20251010T090858Z
LAST-MODIFIED:20251010T210709Z
UID:583-1763337600-1763423999@alfalfaseedab.com
SUMMARY:2025 Fall Meeting
DESCRIPTION:Save the date! Alfalfa Seed Commission of Alberta’s Fall Meeting will be taking place on Monday\, November 17th\, 2025. \nDoors open @ 8:30am\, program to begin @ 9:00am. Lunch included. End time 1:30pm. \nSeason and research project updates. \nWe have a very exciting line up of guest speakers including: \nLunchtime keynote speaker Shaun Haney of RealAgriculture and Real Ag Podcast. Shaun Haney is the founder of RealAgriculture\, a leading North American ag media platform delivering news and insights on policy\, agronomy\, and farm management. He hosts RealAg Radio on SiriusXM’s Rural Radio Channel 147 and RealAg on the Weekend across Saskatchewan and Alberta. Shaun is also a regular contributor to RFD-TV\, Agritalk\, and US Farm Report\, and co-leads RealAgristudies\, a farmer-focused market research initiative launched in 2019. \nGuest speaker Joshua Rinehart. Josh is a PhD student working with the Alfalfa Leafcutting bee at North Dakota State University and will be graduating in May. Joshua always keep the farmers and managers in mind and has multiple studies published with implications for Alfalfa bee management. One of his many interests is how Alfalfa bee management practices can be modified to improve agricultural yields\, bee health\, and pollination services and he is excited to share his research. \n 
URL:https://alfalfaseedab.com/event/2025-fall-meeting/
ATTACH;FMTTYPE=image/jpeg:https://alfalfaseedab.com/wp-content/uploads/2025/11/Fall-Meeting-ASCA_2025-scaled.jpg
END:VEVENT
BEGIN:VEVENT
DTSTART;VALUE=DATE:20260331
DTEND;VALUE=DATE:20260401
DTSTAMP:20260423T133736
CREATED:20260303T203117Z
LAST-MODIFIED:20260303T203343Z
UID:622-1774915200-1775001599@alfalfaseedab.com
SUMMARY:2026 Spring Meeting & AGM
DESCRIPTION:Save the date! \nThe Alfalfa Seed Commission of Alberta’s Spring Meeting will be taking place on Tuesday\, March 31st\, 2026. \nDoors open @ 8:30am\, program to begin @ 9:00am. Lunch included. End time ~1:30pm. \nJoin us for a packed agenda including: \n\nSeason updates from the Cocoon Testing Centre\nAlberta Plant Health Lab’s 2026 alfalfa survey\nPrairie-wide weevil insecticide resistance survey\nWeevil resistance management research\nLeafcutter bee parasite control research\nCommission business & AGM\n\nDon’t miss our lunchtime keynote speaker\, Eric Little of Edison Motors will be here to share about this incredible Canadian-born company. \n 
URL:https://alfalfaseedab.com/event/2025-spring-meeting-agm/
ATTACH;FMTTYPE=image/jpeg:https://alfalfaseedab.com/wp-content/uploads/2026/03/Spring-meeting-2026-announcement-poster.jpg
END:VEVENT
END:VCALENDAR