BEGIN:VCALENDAR
VERSION:2.0
PRODID:-//Alfalfa Seed Commission - ECPv6.15.20//NONSGML v1.0//EN
CALSCALE:GREGORIAN
METHOD:PUBLISH
X-WR-CALNAME:Alfalfa Seed Commission
X-ORIGINAL-URL:https://alfalfaseedab.com
X-WR-CALDESC:Events for Alfalfa Seed Commission
REFRESH-INTERVAL;VALUE=DURATION:PT1H
X-Robots-Tag:noindex
X-PUBLISHED-TTL:PT1H
BEGIN:VTIMEZONE
TZID:UTC
BEGIN:STANDARD
TZOFFSETFROM:+0000
TZOFFSETTO:+0000
TZNAME:UTC
DTSTART:20220101T000000
END:STANDARD
END:VTIMEZONE
BEGIN:VTIMEZONE
TZID:America/Edmonton
BEGIN:DAYLIGHT
TZOFFSETFROM:-0700
TZOFFSETTO:-0600
TZNAME:MDT
DTSTART:20220313T090000
END:DAYLIGHT
BEGIN:STANDARD
TZOFFSETFROM:-0600
TZOFFSETTO:-0700
TZNAME:MST
DTSTART:20221106T080000
END:STANDARD
BEGIN:DAYLIGHT
TZOFFSETFROM:-0700
TZOFFSETTO:-0600
TZNAME:MDT
DTSTART:20230312T090000
END:DAYLIGHT
BEGIN:STANDARD
TZOFFSETFROM:-0600
TZOFFSETTO:-0700
TZNAME:MST
DTSTART:20231105T080000
END:STANDARD
BEGIN:DAYLIGHT
TZOFFSETFROM:-0700
TZOFFSETTO:-0600
TZNAME:MDT
DTSTART:20240310T090000
END:DAYLIGHT
BEGIN:STANDARD
TZOFFSETFROM:-0600
TZOFFSETTO:-0700
TZNAME:MST
DTSTART:20241103T080000
END:STANDARD
END:VTIMEZONE
BEGIN:VEVENT
DTSTART;VALUE=DATE:20250729
DTEND;VALUE=DATE:20250730
DTSTAMP:20260423T085306
CREATED:20250623T213851Z
LAST-MODIFIED:20250623T215930Z
UID:573-1753747200-1753833599@alfalfaseedab.com
SUMMARY:ASCA Summer Tour 2025
DESCRIPTION:Save the date! Alfalfa Seed Commission of Alberta’s summer tour will be taking place July 29th\, 2025. \nMeet us at the Rainier Hall for coffee @ 8:30am. We welcome you to hop on the bus or drive yourself to each stop. We will visit various trials including the threshold re-evaluation project\, plant growth regulator plot trials\, insecticide trials (new this year)\, some on-farm research and potentially some leafcutter bee studies as well.  The tour will end back at Rainier Hall for a catered lunch and the chance to visit with other producers\, Commission staff and board\, and research scientists.
URL:https://alfalfaseedab.com/event/asca-summer-tour-2025/
ATTACH;FMTTYPE=image/png:https://alfalfaseedab.com/wp-content/uploads/2025/06/Summer-Tour-2025-Poster.png
END:VEVENT
BEGIN:VEVENT
DTSTART;TZID=UTC:20241126T083000
DTEND;TZID=UTC:20241126T130000
DTSTAMP:20260423T085306
CREATED:20241029T155653Z
LAST-MODIFIED:20241029T155936Z
UID:501-1732609800-1732626000@alfalfaseedab.com
SUMMARY:ASCA Fall Meeting 2024
DESCRIPTION:ASCA Fall Meeting 2024 \nJoin ASCA on November 26th for our Fall Meeting at Cassils Community Hall. Coffee at 8:30 am\, program to start at 9:00 am. We have a diverse set of speakers set to attend\, stay tuned for details.
URL:https://alfalfaseedab.com/event/asca-fall-meeting-2024/
LOCATION:Cassils Hall\, Brooks\, AB
ATTACH;FMTTYPE=image/jpeg:https://alfalfaseedab.com/wp-content/uploads/2024/10/fall-meeting-2024.jpg
END:VEVENT
BEGIN:VEVENT
DTSTART;TZID=UTC:20240730T083000
DTEND;TZID=UTC:20240730T130000
DTSTAMP:20260423T085306
CREATED:20240702T153637Z
LAST-MODIFIED:20240702T153637Z
UID:476-1722328200-1722344400@alfalfaseedab.com
SUMMARY:ASCA Summer Tour 2024
DESCRIPTION:Join ASCA on July 30th for our Summer Tour\, beginning in Bow Island @ Centennial Park \n8:30 – Coffee courtesy of FCC \n9:00 – Load up on the bus provided or bring your personal vehicle for the tour. Stops include tours at both Forty Mile Pollinators and the Forty Mile Turf Seed Cleaning facility\, a visit to research plots for the Pest Insect Threshold Re-evaluation research project\, and a stop at an edible been field along the way back. \n~12:00 – Return to Centennial Park in Bow Island for catered lunch and visiting tour presenters and research partners.
URL:https://alfalfaseedab.com/event/asca-summer-tour-2024/
LOCATION:Bow Island Centennial Park\, 1121 Centre St\, Bow Island\, Alberta\, T0k 0g0
ATTACH;FMTTYPE=image/jpeg:https://alfalfaseedab.com/wp-content/uploads/2024/07/ASCA-Summer-Tour-Poster-2024.jpg
END:VEVENT
BEGIN:VEVENT
DTSTART;TZID=UTC:20240325T083000
DTEND;TZID=UTC:20240325T130000
DTSTAMP:20260423T085306
CREATED:20240216T220755Z
LAST-MODIFIED:20240216T220755Z
UID:459-1711355400-1711371600@alfalfaseedab.com
SUMMARY:ASCA Spring Meeting & AGM
DESCRIPTION:Join ASCA on March 25th for our Spring Meeting at Cassils Community Hall. \nCoffee at 8:30 am\, program to start at 9:00 am. We hope to begin the AGM at 11:15/11:30 and there will be lunch to follow.
URL:https://alfalfaseedab.com/event/asca-spring-meeting-agm/
LOCATION:Cassils Hall\, Brooks\, AB
ATTACH;FMTTYPE=image/jpeg:https://alfalfaseedab.com/wp-content/uploads/2024/02/2024-agm-announcement.jpg
END:VEVENT
BEGIN:VEVENT
DTSTART;TZID=UTC:20231114T083000
DTEND;TZID=UTC:20231114T130000
DTSTAMP:20260423T085306
CREATED:20231003T214934Z
LAST-MODIFIED:20231003T214934Z
UID:410-1699950600-1699966800@alfalfaseedab.com
SUMMARY:ASCA Fall Meeting
DESCRIPTION:ASCA Fall Meeting \nJoin ASCA on November 14th for our Fall Meeting at Cassils Community Hall. Coffee at 8:30 am\, program to start at 9:00 am. We have a diverse set of speakers set to attend\, stay tuned for details.
URL:https://alfalfaseedab.com/event/asca-fall-meeting/
LOCATION:Cassils Hall\, Brooks\, AB
ATTACH;FMTTYPE=image/jpeg:https://alfalfaseedab.com/wp-content/uploads/2023/10/Fall-meeting-announcement-2023.jpg
END:VEVENT
BEGIN:VEVENT
DTSTART;TZID=UTC:20230921T080000
DTEND;TZID=UTC:20230921T100000
DTSTAMP:20260423T085306
CREATED:20230914T035058Z
LAST-MODIFIED:20230914T035251Z
UID:406-1695283200-1695290400@alfalfaseedab.com
SUMMARY:Pollinator Health for Seed Production Webinar
DESCRIPTION:Join us for a webinar – Thursday\, September 21 @8:00 MST titled: Pollinator Health for Seed Production. \nJoin Seeds Canada\, Alberta Beekeepers Commission\, North-Western Polytech\, and Alfalfa Seed Commission (Alberta) to chat about pollinator health and hybrid seed canola and alfalfa seed pollination. \nIt’s free! Register via this link: Webinar Registration – Zoom
URL:https://alfalfaseedab.com/event/pollinator-health-for-seed-production-webinar/
ATTACH;FMTTYPE=image/jpeg:https://alfalfaseedab.com/wp-content/uploads/2023/09/Pollinator-Webinar-Sept-2023-1.jpg
END:VEVENT
BEGIN:VEVENT
DTSTART;VALUE=DATE:20230725
DTEND;VALUE=DATE:20230726
DTSTAMP:20260423T085306
CREATED:20230608T004006Z
LAST-MODIFIED:20230608T004339Z
UID:373-1690243200-1690329599@alfalfaseedab.com
SUMMARY:ASCA Summer Tour
DESCRIPTION:Save the date! Alfalfa Seed Commission of Alberta’s summer tour will be taking place July 25th\, 2023. Please check back for more details
URL:https://alfalfaseedab.com/event/asca-summer-tour/
ATTACH;FMTTYPE=image/jpeg:https://alfalfaseedab.com/wp-content/uploads/2023/05/ASCA-summer-tour-announcement-2023.jpg
END:VEVENT
BEGIN:VEVENT
DTSTART;TZID=UTC:20230713T080000
DTEND;TZID=UTC:20230713T153000
DTSTAMP:20260423T085306
CREATED:20230711T215257Z
LAST-MODIFIED:20230711T215257Z
UID:395-1689235200-1689262200@alfalfaseedab.com
SUMMARY:Farming Smarter Plot Hop
DESCRIPTION:Farming Smarter Plot Hop \nRegister here: 2023 Plot Hop – FaRMer Ticket (farmingsmarter.com)
URL:https://alfalfaseedab.com/event/farming-smarter-plot-hop/
LOCATION:211034 Hwy 512 Lethbridge County AB T1J 5N9
END:VEVENT
BEGIN:VEVENT
DTSTART;TZID=UTC:20230607T130000
DTEND;TZID=UTC:20230607T160000
DTSTAMP:20260423T085306
CREATED:20230608T011648Z
LAST-MODIFIED:20230608T011900Z
UID:380-1686142800-1686153600@alfalfaseedab.com
SUMMARY:New Event Posting
DESCRIPTION:This is where your pictures and event details will go. \nRegister here: https://colesag.com
URL:https://alfalfaseedab.com/event/new-event-posting/
LOCATION:Cassils Hall\, Brooks\, AB
ATTACH;FMTTYPE=image/jpeg:https://alfalfaseedab.com/wp-content/uploads/2023/05/ASCA-summer-tour-announcement-2023.jpg
END:VEVENT
BEGIN:VEVENT
DTSTART;TZID=America/Edmonton:20230321T083000
DTEND;TZID=America/Edmonton:20230321T170000
DTSTAMP:20260423T085306
CREATED:20230309T040002Z
LAST-MODIFIED:20230309T040002Z
UID:114-1679387400-1679418000@alfalfaseedab.com
SUMMARY:Spring Meeting & AGM
DESCRIPTION:Come down to the spring meeting & AGM\, 8:30 start time Cassils Hall in Books\, AB
URL:https://alfalfaseedab.com/event/spring-meeting-agm/
LOCATION:Cassils Hall\, Brooks\, AB
ATTACH;FMTTYPE=image/jpeg:https://alfalfaseedab.com/wp-content/uploads/2023/03/Spring2023announcement.jpg
END:VEVENT
END:VCALENDAR